BEGIN:VCALENDAR
VERSION:2.0
PRODID:EVENTFROG//EVENT//ICAL
BEGIN:VEVENT
UID:20260422T200656Z-7450159253979968731@eventfrog.de
DTSTAMP:20260422T200656Z
DTSTART:20260623T170000Z
SUMMARY:Putins Marionetten
DESCRIPTION:Birgit Jennen zeigt in ihrem Buch, wie die deutsche Wirtschaft trotz Konflikten mit Russland Politik und Sicherheit beeinflusste.\n\nhttps://eventfrog.de/de/p/fuehrungen-vortraege/podium/putins-marionetten-7450159253979968731.html
LOCATION:Deutsches Spionagemuseum
GEO:52.509617;13.378148
URL:https://eventfrog.de/de/p/fuehrungen-vortraege/podium/putins-marionetten-7450159253979968731.html
END:VEVENT
END:VCALENDAR