BEGIN:VCALENDAR
VERSION:2.0
PRODID:EVENTFROG//EVENT//ICAL
BEGIN:VEVENT
UID:20260421T174454Z-7450164049071841253@eventfrog.de
DTSTAMP:20260421T174454Z
DTSTART:20260424T180000Z
DTEND:20260424T200000Z
SUMMARY:Musikkabarett "Zwischem Ambivalenz und Dekadenz"
DESCRIPTION:Musikkabarett "Zwischen Ambivalenz und Dekadenz" \n\nhttps://eventfrog.de/de/p/konzerte/singer-songwriter/musikkabarett-zwischem-ambivalenz-und-dekadenz-7450164049071841253.html
LOCATION:Schützenhaus - Kulturbanausen
GEO:49.449892;8.238647
URL:https://eventfrog.de/de/p/konzerte/singer-songwriter/musikkabarett-zwischem-ambivalenz-und-dekadenz-7450164049071841253.html
END:VEVENT
END:VCALENDAR