BEGIN:VCALENDAR
VERSION:2.0
PRODID:EVENTFROG//EVENT//ICAL
BEGIN:VEVENT
UID:20260420T131607Z-7450171616707766230@eventfrog.de
DTSTAMP:20260420T131607Z
DTSTART:20261104T190000Z
SUMMARY:Aynsley Lister - Special Guest: Nina Attal
DESCRIPTION:Letztes Jahr haben wir mit Aynsley Lister auf 20 gemeinsame Shows angestossen – dieses Jahr kehrt er für seinen 21. (!) Streich zurück auf die Mühlebühne, olé!\n\n\nhttps://eventfrog.de/de/p/konzerte/jazz-blues/aynsley-lister-special-guest-nina-attal-7450171616707766230.html
LOCATION:Mühle Hunziken
GEO:46.890789;7.541809
URL:https://eventfrog.de/de/p/konzerte/jazz-blues/aynsley-lister-special-guest-nina-attal-7450171616707766230.html
END:VEVENT
END:VCALENDAR