BEGIN:VCALENDAR
VERSION:2.0
PRODID:EVENTFROG//EVENT//ICAL
BEGIN:VEVENT
UID:20260420T073331Z-7450206373793508453@eventfrog.de
DTSTAMP:20260420T073331Z
DTSTART:20260426T110000Z
DTEND:20260517T160000Z
SUMMARY:„Porträt – das ICH im Bild“ – Künstlergruppe Bonn
DESCRIPTION:Am 26. April zeigt das Museum August Macke Haus Porträt-Kunst und Performance mit vielseitigen Künstler:innen.\n\nhttps://eventfrog.de/de/p/kunst-ausstellungen/ausstellung/portraet-das-ich-im-bild-kuenstlergruppe-bonn-7450206373793508453.html
LOCATION:Künstlerforum Bonn
GEO:50.739080;7.086980
URL:https://eventfrog.de/de/p/kunst-ausstellungen/ausstellung/portraet-das-ich-im-bild-kuenstlergruppe-bonn-7450206373793508453.html
END:VEVENT
END:VCALENDAR