BEGIN:VCALENDAR
VERSION:2.0
PRODID:EVENTFROG//EVENT//ICAL
BEGIN:VEVENT
UID:20260424T083628Z-7450210591149412766@eventfrog.de
DTSTAMP:20260424T083628Z
DTSTART:20260430T160000Z
DTEND:20260430T173000Z
SUMMARY:Umgang mit Geld - Fragen und Antworten
DESCRIPTION:Kostenlose Veranstaltung mit Fachstelle Schuldensanierung Berner Oberland zu Geld sparen, Schuldenfallen und Unterstützung.\n\nhttps://eventfrog.de/de/p/fuehrungen-vortraege/vortrag/umgang-mit-geld-fragen-und-antworten-7450210591149412766.html
LOCATION:KIO, Kompetenzzentrum Integration Thun-Oberland
GEO:46.761136;7.618212
URL:https://eventfrog.de/de/p/fuehrungen-vortraege/vortrag/umgang-mit-geld-fragen-und-antworten-7450210591149412766.html
END:VEVENT
END:VCALENDAR