BEGIN:VCALENDAR
VERSION:2.0
PRODID:EVENTFROG//EVENT//ICAL
BEGIN:VEVENT
UID:20260424T065633Z-7450227154485285721@eventfrog.de
DTSTAMP:20260424T065633Z
DTSTART:20260509T140000Z
DTEND:20260509T143000Z
SUMMARY:Familienkonzert auf der Orgelempore der Kathedrale
DESCRIPTION:Die Legende des heiligen Christophorus: ein Familienkonzert rund um die Orgel der Kathedrale. Dauer: 30 Minuten.\n\nhttps://eventfrog.de/de/p/klassik-opern/klassik/familienkonzert-auf-der-orgelempore-der-kathedrale-7450227154485285721.html
LOCATION:St. Ursen-Kathedrale
GEO:47.208150;7.538990
URL:https://eventfrog.de/de/p/klassik-opern/klassik/familienkonzert-auf-der-orgelempore-der-kathedrale-7450227154485285721.html
END:VEVENT
END:VCALENDAR