BEGIN:VCALENDAR
VERSION:2.0
PRODID:EVENTFROG//EVENT//ICAL
BEGIN:VEVENT
UID:20260419T135603Z-7450245456305630786@eventfrog.de
DTSTAMP:20260419T135603Z
DTSTART:20260522T173000Z
SUMMARY:THE SUN (Heri Koch und Stefan Wiesbrock)
DESCRIPTION:Heri Koch und Stefan Wiesbrock treten als Duo «The Sun» mit unplugged Rock- und Popsongs im Kunstbalken auf.\n\nhttps://eventfrog.de/de/p/konzerte/pop-rock/the-sun-heri-koch-und-stefan-wiesbrock-7450245456305630786.html
LOCATION:Kunstbalken Gosselmanns Hof
GEO:51.894957;7.473085
URL:https://eventfrog.de/de/p/konzerte/pop-rock/the-sun-heri-koch-und-stefan-wiesbrock-7450245456305630786.html
END:VEVENT
END:VCALENDAR