BEGIN:VCALENDAR
VERSION:2.0
PRODID:EVENTFROG//EVENT//ICAL
BEGIN:VEVENT
UID:20260420T002550Z-7450297107510999554@eventfrog.de
DTSTAMP:20260420T002550Z
DTSTART:20260509T190000Z
SUMMARY:Das Tanzfest - Tanznacht
DESCRIPTION:Das Tanzfest - Tanznacht\n\nhttps://eventfrog.de/de/p/partys/das-tanzfest-tanznacht-7450297107510999554.html
LOCATION:Grabenhalle
GEO:47.427340;9.374160
URL:https://eventfrog.de/de/p/partys/das-tanzfest-tanznacht-7450297107510999554.html
END:VEVENT
END:VCALENDAR