BEGIN:VCALENDAR
VERSION:2.0
PRODID:EVENTFROG//EVENT//ICAL
BEGIN:VEVENT
UID:20260424T105858Z-7450301577431110715@eventfrog.de
DTSTAMP:20260424T105858Z
DTSTART:20260502T150000Z
SUMMARY:Der Tod ist ein Arschloch
DESCRIPTION:Mutiges Porträt über das Sterben in unserer Gesellschaft.\n\nhttps://eventfrog.de/de/p/freizeit-ausfluege/der-tod-ist-ein-arschloch-7450301577431110715.html
LOCATION:Kino Rosental
GEO:47.442578;9.533443
URL:https://eventfrog.de/de/p/freizeit-ausfluege/der-tod-ist-ein-arschloch-7450301577431110715.html
END:VEVENT
END:VCALENDAR