BEGIN:VCALENDAR
VERSION:2.0
PRODID:EVENTFROG//EVENT//ICAL
BEGIN:VEVENT
UID:20260424T085203Z-7450303584145555118@eventfrog.de
DTSTAMP:20260424T085203Z
DTSTART:20260621T083000Z
DTEND:20260621T150000Z
SUMMARY:1. Vespa Day Treffen in Gossau SG
DESCRIPTION:1. Vespa Day Treffen in Gossau SG\n\nhttps://eventfrog.de/de/p/diverses/1-vespa-day-treffen-in-gossau-sg-7450303584145555118.html
LOCATION:Markthalle 9200 Gossau
GEO:47.413905;9.250668
URL:https://eventfrog.de/de/p/diverses/1-vespa-day-treffen-in-gossau-sg-7450303584145555118.html
END:VEVENT
END:VCALENDAR