BEGIN:VCALENDAR
VERSION:2.0
PRODID:EVENTFROG//EVENT//ICAL
BEGIN:VEVENT
UID:20260425T220052Z-7450430556414699324@eventfrog.de
DTSTAMP:20260425T220052Z
DTSTART:20260724T170000Z
DTEND:20260725T020000Z
SUMMARY:Sabdariffa Festival
DESCRIPTION:Reggae Night mit Live Bands, DJ's, gutem Essen und vielen Special Guests. Grisli & The Nyatreez alongside Collie Herb & The Mighty Roots und Freunden (TBA soon)\n\nhttps://eventfrog.de/de/p/festivals/reggae-ska/sabdariffa-festival-7450430556414699324.html
LOCATION:Kulturwerk Bleichi Wohlen
GEO:47.351905;8.281484
URL:https://eventfrog.de/de/p/festivals/reggae-ska/sabdariffa-festival-7450430556414699324.html
END:VEVENT
END:VCALENDAR