BEGIN:VCALENDAR
VERSION:2.0
PRODID:EVENTFROG//EVENT//ICAL
BEGIN:VEVENT
UID:20260421T134201Z-7450447610920361665@eventfrog.de
DTSTAMP:20260421T134201Z
DTSTART:20260621T120000Z
DTEND:20260621T143000Z
SUMMARY:Über Stock und Kieselstein zur Wolle
DESCRIPTION:Aktionsnachmittag für Familien\n\nhttps://eventfrog.de/de/p/kinderveranstaltungen/familienveranstaltungen/ueber-stock-und-kieselstein-zur-wolle-7450447610920361665.html
LOCATION:HeideHaus
GEO:48.211149;11.614929
URL:https://eventfrog.de/de/p/kinderveranstaltungen/familienveranstaltungen/ueber-stock-und-kieselstein-zur-wolle-7450447610920361665.html
END:VEVENT
END:VCALENDAR