BEGIN:VCALENDAR
VERSION:2.0
PRODID:EVENTFROG//EVENT//ICAL
BEGIN:VEVENT
UID:20260419T184300Z-7450462584321408269@eventfrog.de
DTSTAMP:20260419T184300Z
DTSTART:20260420T220000Z
DTEND:20260508T220000Z
SUMMARY:Interaktive Ausstellung bringt Emotionen ins Emmen Center
DESCRIPTION:Lachen, loslassen, durchatmen: Vom 21. April bis 9. Mai 2026 wird das Emmen Center zur Erlebniswelt für Emotionen. \n\nhttps://eventfrog.de/de/p/kunst-ausstellungen/ausstellung/interaktive-ausstellung-bringt-emotionen-ins-emmen-center-7450462584321408269.html
LOCATION:Emmen Center
GEO:47.073108;8.286223
URL:https://eventfrog.de/de/p/kunst-ausstellungen/ausstellung/interaktive-ausstellung-bringt-emotionen-ins-emmen-center-7450462584321408269.html
END:VEVENT
END:VCALENDAR