BEGIN:VCALENDAR
VERSION:2.0
PRODID:EVENTFROG//EVENT//ICAL
BEGIN:VEVENT
UID:20260419T143138Z-7450478969512540781@eventfrog.de
DTSTAMP:20260419T143138Z
DTSTART:20260428T170000Z
DTEND:20260428T190000Z
SUMMARY:Immobilienverkauf 2026: Experten-Infoabend für Eigentümer
DESCRIPTION:Drei Experten vermitteln Eigentümern, wie sie ihre Immobilien in Mönchengladbach sicher und erfolgreich privat verkaufen.\n\nhttps://eventfrog.de/de/p/fuehrungen-vortraege/vortrag/immobilienverkauf-2026-experten-infoabend-fuer-eigentuemer-7450478969512540781.html
LOCATION:Wird mit der Reservierung bekannt gegeben.
URL:https://eventfrog.de/de/p/fuehrungen-vortraege/vortrag/immobilienverkauf-2026-experten-infoabend-fuer-eigentuemer-7450478969512540781.html
END:VEVENT
END:VCALENDAR