BEGIN:VCALENDAR
VERSION:2.0
PRODID:EVENTFROG//EVENT//ICAL
BEGIN:VEVENT
UID:20260420T054143Z-7450497136972542562@eventfrog.de
DTSTAMP:20260420T054143Z
DTSTART:20260430T190000Z
DTEND:20260501T000000Z
SUMMARY:Kerwe-Party / Tanz in den Mai mit FATE
DESCRIPTION:Kerwe-Party in Schwanheim mit FATE Music Covers: Sinsheimer Nachwuchsband, die seit über 10 Jahren mit Rock-Pop-Coversongs begeistert. 30. April 2026 // 21:00 Uhr \n\nhttps://eventfrog.de/de/p/partys/pop-rock/kerwe-party-tanz-in-den-mai-mit-fate-7450497136972542562.html
LOCATION:Kerwezelt
GEO:49.401270;8.973274
URL:https://eventfrog.de/de/p/partys/pop-rock/kerwe-party-tanz-in-den-mai-mit-fate-7450497136972542562.html
END:VEVENT
END:VCALENDAR