BEGIN:VCALENDAR
VERSION:2.0
PRODID:EVENTFROG//EVENT//ICAL
BEGIN:VEVENT
UID:20260419T143138Z-7450497893134251713@eventfrog.de
DTSTAMP:20260419T143138Z
DTSTART:20260428T160000Z
DTEND:20260428T180000Z
SUMMARY:Ihr Herz im Fokus
DESCRIPTION:Kardiologie in der Region - vernetzt für Ihre Gesundheit! Drei namhafte Referenten beleuchten die kardiologische Versorgung unserer Region. Von Marburg bis Korbach, wir sorgen für Sie.\n\nhttps://eventfrog.de/de/p/gesundheit-spiritualitaet/gesundheit-wohlbefinden/ihr-herz-im-fokus-7450497893134251713.html
LOCATION:Philipp-Soldan-Forum
GEO:51.056024;8.801630
URL:https://eventfrog.de/de/p/gesundheit-spiritualitaet/gesundheit-wohlbefinden/ihr-herz-im-fokus-7450497893134251713.html
END:VEVENT
END:VCALENDAR