BEGIN:VCALENDAR
VERSION:2.0
PRODID:EVENTFROG//EVENT//ICAL
BEGIN:VEVENT
UID:20260419T145433Z-7450521565484027478@eventfrog.de
DTSTAMP:20260419T145433Z
DTSTART:20260530T080000Z
SUMMARY:Visions of Sound – Erlebe eine Neue Hördimension
DESCRIPTION:Visions of Sound präsentiert aktuelle Blu-ray Veröffentlichungen mit Dolby Atmos Tonmischungen bei Kino im Wohnzimmer\nCW Wundram GmbH in Berlin.\n\nhttps://eventfrog.de/de/p/fuehrungen-vortraege/vortrag/visions-of-sound-erlebe-eine-neue-hoerdimension-7450521565484027478.html
LOCATION:Kino im Wohnzimmer CW Wundram GmbH
GEO:52.376623;13.648089
URL:https://eventfrog.de/de/p/fuehrungen-vortraege/vortrag/visions-of-sound-erlebe-eine-neue-hoerdimension-7450521565484027478.html
END:VEVENT
END:VCALENDAR