BEGIN:VCALENDAR
VERSION:2.0
PRODID:EVENTFROG//EVENT//ICAL
BEGIN:VEVENT
UID:20260424T065631Z-7450532266135024106@eventfrog.de
DTSTAMP:20260424T065631Z
DTSTART:20260530T200000Z
SUMMARY:Depeche Mode & The Cure Party
DESCRIPTION:Die größten Hits und Raritäten von Depeche Mode, The Cure und weiteren New Wave-Klassikern. Party am Samstag dem 30.05. ab 22 Uhr! P16 mit Muttizettel und Abendkasse.\n\nhttps://eventfrog.de/de/p/partys/gothic-wave/depeche-mode-the-cure-party-7450532266135024106.html
LOCATION:Haus der Offiziere
GEO:52.412465;12.539366
URL:https://eventfrog.de/de/p/partys/gothic-wave/depeche-mode-the-cure-party-7450532266135024106.html
END:VEVENT
END:VCALENDAR