BEGIN:VCALENDAR
VERSION:2.0
PRODID:EVENTFROG//EVENT//ICAL
BEGIN:VEVENT
UID:20260424T063717Z-7450533953298000463@eventfrog.de
DTSTAMP:20260424T063717Z
DTSTART:20270225T110000Z
DTEND:20270225T170000Z
SUMMARY:32. Jobmesse Dresden
DESCRIPTION:Alle Wege zu Deiner Karriere auf der 32. Jobmesse Dresden am 25.02.2027 im Rudolf-Harbig-Stadion\n\nhttps://eventfrog.de/de/p/messen/messe/32-jobmesse-dresden-7450533953298000463.html
LOCATION:Rudolf-Harbig-Stadion
GEO:51.041410;13.747260
URL:https://eventfrog.de/de/p/messen/messe/32-jobmesse-dresden-7450533953298000463.html
END:VEVENT
END:VCALENDAR