BEGIN:VCALENDAR
VERSION:2.0
PRODID:EVENTFROG//EVENT//ICAL
BEGIN:VEVENT
UID:20260424T023025Z-7450542713827549269@eventfrog.de
DTSTAMP:20260424T023025Z
DTSTART:20260502T080000Z
DTEND:20260502T140000Z
SUMMARY:Fotobörse im LOK
DESCRIPTION:Am 2. Mai 2026 findet die Fotobörse mit Kauf, Verkauf und kostenloser technischer Kamerabewertung statt.\n\nhttps://eventfrog.de/de/p/maerkte/second-hand/fotoboerse-im-lok-7450542713827549269.html
LOCATION:LOK Kulturzentrum Jever
GEO:53.567752;7.895716
URL:https://eventfrog.de/de/p/maerkte/second-hand/fotoboerse-im-lok-7450542713827549269.html
END:VEVENT
END:VCALENDAR