BEGIN:VCALENDAR
VERSION:2.0
PRODID:EVENTFROG//EVENT//ICAL
BEGIN:VEVENT
UID:20260424T083758Z-7450548129768729959@eventfrog.de
DTSTAMP:20260424T083758Z
DTSTART:20260903T080000Z
DTEND:20260903T150000Z
SUMMARY:Versorgt. Verdingt. Vergessen?
DESCRIPTION:Die Schau erlaubt einen vielstimmigen und zugleich wissenschaftlich fundierten Zugang zu diesem Kapitel der Schweizer Geschichte, welches das Leben von vielen Menschen stark geprägt hat.\n\nhttps://eventfrog.de/de/p/kunst-ausstellungen/ausstellung/versorgt-verdingt-vergessen-7450548129768729959.html
LOCATION:Museum Luzern
GEO:47.051683;8.301061
URL:https://eventfrog.de/de/p/kunst-ausstellungen/ausstellung/versorgt-verdingt-vergessen-7450548129768729959.html
END:VEVENT
END:VCALENDAR