BEGIN:VCALENDAR
VERSION:2.0
PRODID:EVENTFROG//EVENT//ICAL
BEGIN:VEVENT
UID:20260420T210449Z-7450553579704721332@eventfrog.de
DTSTAMP:20260420T210449Z
DTSTART:20260424T180000Z
DTEND:20260424T200000Z
SUMMARY:*Revolver  the comedy show with a bang* Spring
DESCRIPTION:Die älteste englische Comedy-Show in Berlin mit sechs Comedians findet jeden zweiten und letzten Freitag im Wows.ville in Kreuzberg statt.\n\nhttps://eventfrog.de/de/p/theater-buehne/comedy-kabarett/revolver-the-comedy-show-with-a-bang-spring-7450553579704721332.html
LOCATION:Wowsville
GEO:52.494896;13.430022
URL:https://eventfrog.de/de/p/theater-buehne/comedy-kabarett/revolver-the-comedy-show-with-a-bang-spring-7450553579704721332.html
END:VEVENT
END:VCALENDAR