BEGIN:VCALENDAR
VERSION:2.0
PRODID:EVENTFROG//EVENT//ICAL
BEGIN:VEVENT
UID:20260419T143139Z-7450564575013908419@eventfrog.de
DTSTAMP:20260419T143139Z
DTSTART:20260515T140000Z
DTEND:20260515T151000Z
SUMMARY:Kinder- und Familien Zaubershow
DESCRIPTION:Der Magische Zirkel Mindelheim lädt zu einer Kinderzaubershow mit Humor und Magie für die ganze Familie zum 50-jährigen-Jubiläum ein.\n\nhttps://eventfrog.de/de/p/kinderveranstaltungen/familienveranstaltungen/kinder-und-familien-zaubershow-7450564575013908419.html
LOCATION:Silvester-Saal, Mindelheim
GEO:48.047032;10.486873
URL:https://eventfrog.de/de/p/kinderveranstaltungen/familienveranstaltungen/kinder-und-familien-zaubershow-7450564575013908419.html
END:VEVENT
END:VCALENDAR