BEGIN:VCALENDAR
VERSION:2.0
PRODID:EVENTFROG//EVENT//ICAL
BEGIN:VEVENT
UID:20260426T031119Z-7450593983732944180@eventfrog.de
DTSTAMP:20260426T031119Z
DTSTART:20260510T173000Z
DTEND:20260510T200000Z
SUMMARY:Villa Neukölln DJANGO SINATRA Gypsy Swing meets Franky Boy
DESCRIPTION:Villa Neukölln \nRoger Pabst, Romani Weiss & Friends Presents:\n Django Sinatra \neine Gypsy-Jazz-Hommage an die Giganten des Swings.\n\nhttps://eventfrog.de/de/p/konzerte/swing/villa-neukoelln-django-sinatra-gypsy-swing-meets-franky-boy-7450593983732944180.html
LOCATION:Villa Neukölln
GEO:52.480046;13.425664
URL:https://eventfrog.de/de/p/konzerte/swing/villa-neukoelln-django-sinatra-gypsy-swing-meets-franky-boy-7450593983732944180.html
END:VEVENT
END:VCALENDAR