BEGIN:VCALENDAR
VERSION:2.0
PRODID:EVENTFROG//EVENT//ICAL
BEGIN:VEVENT
UID:20260421T174448Z-7450617424393589735@eventfrog.de
DTSTAMP:20260421T174448Z
DTSTART:20260626T160000Z
DTEND:20260628T120000Z
SUMMARY:Waldeck Open Air
DESCRIPTION:Kleines, sympathisches Festival für Liedermacher- und Folkformationen auf dem legendären Gelände der Burg Waldeck, auf dem in den Sechzigerjahren die ersten Musikfestivals Deutschlands stattfanden.\n\nhttps://eventfrog.de/de/p/festivals/weitere-festivals/waldeck-open-air-7450617424393589735.html
LOCATION:Arbeitsgemeinschaft Burg Waldeck e.V.
GEO:50.148294;7.432783
URL:https://eventfrog.de/de/p/festivals/weitere-festivals/waldeck-open-air-7450617424393589735.html
END:VEVENT
END:VCALENDAR