BEGIN:VCALENDAR
VERSION:2.0
PRODID:EVENTFROG//EVENT//ICAL
BEGIN:VEVENT
UID:20260419T165134Z-7450624778287733852@eventfrog.de
DTSTAMP:20260419T165134Z
DTSTART:20260509T140000Z
DTEND:20260510T013000Z
SUMMARY:2-Rad Party ️
DESCRIPTION:Am 09.05.2026 ab 16 Uhr feiert das Schüxehus eine 2-Rad-Party für alle Zweiradfahrer:innen mit Musik, Drinks und Food.\n\nhttps://eventfrog.de/de/p/partys/sonstige-partys/2-rad-party-7450624778287733852.html
LOCATION:Schüxenhaus Ins
GEO:47.008588;7.115986
URL:https://eventfrog.de/de/p/partys/sonstige-partys/2-rad-party-7450624778287733852.html
END:VEVENT
END:VCALENDAR