BEGIN:VCALENDAR
VERSION:2.0
PRODID:EVENTFROG//EVENT//ICAL
BEGIN:VEVENT
UID:20260419T194127Z-7450629033358787905@eventfrog.de
DTSTAMP:20260419T194127Z
DTSTART:20260424T100000Z
DTEND:20260424T113000Z
SUMMARY:CULTIBO Zmittag * Spezialitäten azs Mosambik*
DESCRIPTION:Freiwillige servieren hausgemachte mosambikanische Spezialitäten mit Fleisch- und Vegi-Varianten im CULTIBO.\n\nhttps://eventfrog.de/de/p/essen-trinken/cultibo-zmittag-spezialitaeten-azs-mosambik-7450629033358787905.html
LOCATION:Begegnungszentrum Cultibo Olten
GEO:47.348558;7.911959
URL:https://eventfrog.de/de/p/essen-trinken/cultibo-zmittag-spezialitaeten-azs-mosambik-7450629033358787905.html
END:VEVENT
END:VCALENDAR