BEGIN:VCALENDAR
VERSION:2.0
PRODID:EVENTFROG//EVENT//ICAL
BEGIN:VEVENT
UID:20260421T235215Z-7450642079233912859@eventfrog.de
DTSTAMP:20260421T235215Z
DTSTART:20260424T150000Z
DTEND:20260424T170000Z
SUMMARY:Ver_rückte Touren: Thema “Die erste Psychose“
DESCRIPTION:“Botschaften aus einer inneren Welt“: Ver_rückte Touren – Rundgänge in die Psychiatriegeschichte Hamburgs\nEin trialogisches Format von “Irre menschlich Hamburg e.V.“, begleitet von Robert Dorner u. a.\n\nhttps://eventfrog.de/de/p/fuehrungen-vortraege/stadtfuehrung/ver-rueckte-touren-thema-die-erste-psychose-7450642079233912859.html
LOCATION:Universitätsklinikum Hamburg-Eppendorf, Treffpunkt vor Gebäude O10 (vor dem Haupteingang des Hauptgebäudes – nach der Zufahrt am Kreisel rechts)
GEO:53.592764;9.974449
URL:https://eventfrog.de/de/p/fuehrungen-vortraege/stadtfuehrung/ver-rueckte-touren-thema-die-erste-psychose-7450642079233912859.html
END:VEVENT
END:VCALENDAR