BEGIN:VCALENDAR
VERSION:2.0
PRODID:EVENTFROG//EVENT//ICAL
BEGIN:VEVENT
UID:20260419T213200Z-7450665198300461011@eventfrog.de
DTSTAMP:20260419T213200Z
DTSTART:20260429T120000Z
DTEND:20260429T140000Z
SUMMARY:Offene Gartennachmittag für Kinder
DESCRIPTION:Gemeinsam Gärtnern & den Naturgarten entdecken, mit z'Vieri.\n\nhttps://eventfrog.de/de/p/diverses/offene-gartennachmittag-fuer-kinder-7450665198300461011.html
LOCATION:Areal Bach
GEO:47.435348;9.392530
URL:https://eventfrog.de/de/p/diverses/offene-gartennachmittag-fuer-kinder-7450665198300461011.html
END:VEVENT
END:VCALENDAR