BEGIN:VCALENDAR
VERSION:2.0
PRODID:EVENTFROG//EVENT//ICAL
BEGIN:VEVENT
UID:20260419T213341Z-7450665212510763152@eventfrog.de
DTSTAMP:20260419T213341Z
DTSTART:20260610T120000Z
DTEND:20260610T140000Z
SUMMARY:Offene Gartennachmittag für Kinder
DESCRIPTION:Gemeinsam Gärtnern & den Naturgarten entdecken, mit z'Vieri.\n\nhttps://eventfrog.de/de/p/diverses/offene-gartennachmittag-fuer-kinder-7450665212510763152.html
LOCATION:Areal Bach
GEO:47.435348;9.392530
URL:https://eventfrog.de/de/p/diverses/offene-gartennachmittag-fuer-kinder-7450665212510763152.html
END:VEVENT
END:VCALENDAR