BEGIN:VCALENDAR
VERSION:2.0
PRODID:EVENTFROG//EVENT//ICAL
BEGIN:VEVENT
UID:20260419T213217Z-7450665253233260861@eventfrog.de
DTSTAMP:20260419T213217Z
DTSTART:20261007T120000Z
DTEND:20261007T140000Z
SUMMARY:Offene Gartennachmittag für Kinder
DESCRIPTION:Gemeinsam Gärtnern & den Naturgarten entdecken, mit z'Vieri.\n\nhttps://eventfrog.de/de/p/diverses/offene-gartennachmittag-fuer-kinder-7450665253233260861.html
LOCATION:Areal Bach
GEO:47.435348;9.392530
URL:https://eventfrog.de/de/p/diverses/offene-gartennachmittag-fuer-kinder-7450665253233260861.html
END:VEVENT
END:VCALENDAR