BEGIN:VCALENDAR
VERSION:2.0
PRODID:EVENTFROG//EVENT//ICAL
BEGIN:VEVENT
UID:20260419T205515Z-7450667516265779376@eventfrog.de
DTSTAMP:20260419T205515Z
DTSTART:20260422T170000Z
DTEND:20260422T210000Z
SUMMARY:Klavier IV
DESCRIPTION:Resonanzen, Programm tba.\n\nhttps://eventfrog.de/de/p/konzerte/klavier-iv-7450667516265779376.html
LOCATION:Hagenhaus
GEO:47.201427;9.545524
URL:https://eventfrog.de/de/p/konzerte/klavier-iv-7450667516265779376.html
END:VEVENT
END:VCALENDAR