BEGIN:VCALENDAR
VERSION:2.0
PRODID:EVENTFROG//EVENT//ICAL
BEGIN:VEVENT
UID:20260420T080248Z-7450776635861682224@eventfrog.de
DTSTAMP:20260420T080248Z
DTSTART:20260425T200000Z
SUMMARY:THE 80s DNA & POP NOIR
DESCRIPTION:Am 25.4.2026 verschmelzen 80s Pop & Wave mit moderner Musik auf zwei Floors in der WERK°STADT. Getränke-Special bis 23 Uhr.\n\nhttps://eventfrog.de/de/p/partys/80-s/the-80s-dna-pop-noir-7450776635861682224.html
LOCATION:WERK°STADT
GEO:51.440619;7.345882
URL:https://eventfrog.de/de/p/partys/80-s/the-80s-dna-pop-noir-7450776635861682224.html
END:VEVENT
END:VCALENDAR