BEGIN:VCALENDAR
VERSION:2.0
PRODID:EVENTFROG//EVENT//ICAL
BEGIN:VEVENT
UID:20260421T143405Z-7450801368586042186@eventfrog.de
DTSTAMP:20260421T143405Z
DTSTART:20270318T110000Z
DTEND:20270318T170000Z
SUMMARY:21. Jobmesse Rostock
DESCRIPTION:Alle Wege zu Deiner Karriere auf der 21. Jobmesse Rostock am 18.03.2027 im Ostseestadion.\n\nhttps://eventfrog.de/de/p/messen/messe/21-jobmesse-rostock-7450801368586042186.html
LOCATION:Ostseestadion
GEO:54.084948;12.095165
URL:https://eventfrog.de/de/p/messen/messe/21-jobmesse-rostock-7450801368586042186.html
END:VEVENT
END:VCALENDAR