BEGIN:VCALENDAR
VERSION:2.0
PRODID:EVENTFROG//EVENT//ICAL
BEGIN:VEVENT
UID:20260420T173324Z-7450806208640847620@eventfrog.de
DTSTAMP:20260420T173324Z
DTSTART:20261017T070000Z
DTEND:20261017T143000Z
SUMMARY:LEBEN UND TOD 2026
DESCRIPTION:„Gemeinsam über letzte Dinge sprechen!“\nDie Messe, die Mut macht. Mit Lesungen, Comedy "Der Tod",  Beratungsangeboten, Live-Musik und interaktiven Angeboten rund um die Themen am Lebensende. \n\nhttps://eventfrog.de/de/p/messen/messe/leben-und-tod-2026-7450806208640847620.html
LOCATION:SICK-ARENA
GEO:48.015678;7.840312
URL:https://eventfrog.de/de/p/messen/messe/leben-und-tod-2026-7450806208640847620.html
END:VEVENT
END:VCALENDAR