BEGIN:VCALENDAR
VERSION:2.0
PRODID:EVENTFROG//EVENT//ICAL
BEGIN:VEVENT
UID:20260420T161019Z-7450808040352147929@eventfrog.de
DTSTAMP:20260420T161019Z
DTSTART:20260614T080000Z
DTEND:20260614T150000Z
SUMMARY:Schlagfertiger werden mit Cojones - Workshop für mehr Ideen
DESCRIPTION:Interaktiver Workshop, um mit kreativen Methoden Schlagfertigkeit zu trainieren und schneller klar zu antworten - inklusive Buch zum Weiterüben\n\nhttps://eventfrog.de/de/p/kurse-seminare/sonstige-kurse-seminare/schlagfertiger-werden-mit-cojones-workshop-fuer-mehr-ideen-7450808040352147929.html
LOCATION:Lerschweg 12
GEO:52.168053;7.521301
URL:https://eventfrog.de/de/p/kurse-seminare/sonstige-kurse-seminare/schlagfertiger-werden-mit-cojones-workshop-fuer-mehr-ideen-7450808040352147929.html
END:VEVENT
END:VCALENDAR