BEGIN:VCALENDAR
VERSION:2.0
PRODID:EVENTFROG//EVENT//ICAL
BEGIN:VEVENT
UID:20260420T104217Z-7450822140121637961@eventfrog.de
DTSTAMP:20260420T104217Z
DTSTART:20260425T080000Z
DTEND:20260425T140000Z
SUMMARY:Trödeln von Hof zu Hof
DESCRIPTION:Der Dorftrödel in Wildberg lädt mit vielfältigen Ständen und Speisen zum gemütlichen Schlendern und geniessen bei Sonnenschein ein.\n\nhttps://eventfrog.de/de/p/maerkte/second-hand/troedeln-von-hof-zu-hof-7450822140121637961.html
LOCATION:Wildberg
GEO:52.874727;12.625490
URL:https://eventfrog.de/de/p/maerkte/second-hand/troedeln-von-hof-zu-hof-7450822140121637961.html
END:VEVENT
END:VCALENDAR