BEGIN:VCALENDAR
VERSION:2.0
PRODID:EVENTFROG//EVENT//ICAL
BEGIN:VEVENT
UID:20260420T065306Z-7450827444574008446@eventfrog.de
DTSTAMP:20260420T065306Z
DTSTART:20260619T170000Z
DTEND:20260619T190000Z
SUMMARY:Schloss-Serenade mit "Musical for you" aus Trimbach
DESCRIPTION:Schloss-Serenade mit "Musical for you" aus Trimbach\n\nhttps://eventfrog.de/de/p/musicals-shows/musical/schloss-serenade-mit-musical-for-you-aus-trimbach-7450827444574008446.html
LOCATION:Schloss Wartenfels
GEO:47.390063;7.933937
URL:https://eventfrog.de/de/p/musicals-shows/musical/schloss-serenade-mit-musical-for-you-aus-trimbach-7450827444574008446.html
END:VEVENT
END:VCALENDAR