BEGIN:VCALENDAR
VERSION:2.0
PRODID:EVENTFROG//EVENT//ICAL
BEGIN:VEVENT
UID:20260420T160134Z-7450849060771076861@eventfrog.de
DTSTAMP:20260420T160134Z
DTSTART:20260430T200000Z
DTEND:20260501T030000Z
SUMMARY:90s No Limit-Tanz in den Mai
DESCRIPTION:Tanz in den Mai.\nDu bist ein großer Fan der 90er Jahre und liebst es, zu den Hits dieses Jahrzehnts zu tanzen? Dann solltest Du Dir das Event "90's No Limit  nicht entgehen lassen.\n\nhttps://eventfrog.de/de/p/partys/90-s/90s-no-limit-tanz-in-den-mai-7450849060771076861.html
LOCATION:Wartesaal am DOM
GEO:50.943964;6.960534
URL:https://eventfrog.de/de/p/partys/90-s/90s-no-limit-tanz-in-den-mai-7450849060771076861.html
END:VEVENT
END:VCALENDAR