BEGIN:VCALENDAR
VERSION:2.0
PRODID:EVENTFROG//EVENT//ICAL
BEGIN:VEVENT
UID:20260421T180440Z-7450855230541934015@eventfrog.de
DTSTAMP:20260421T180440Z
DTSTART:20260430T173000Z
SUMMARY:„TANZ IN DEN MAI“ ECSTATIC DANCE HEILBRONN #57
DESCRIPTION:Einladung zum besonderen "Tanz in den Mai" Ecstatic Dance Special. Regeln beachten. Keine Abendkasse.\n\nhttps://eventfrog.de/de/p/partys/sonstige-partys/tanz-in-den-mai-ecstatic-dance-heilbronn-57-7450855230541934015.html
LOCATION:YOGA74
GEO:49.157531;9.219289
URL:https://eventfrog.de/de/p/partys/sonstige-partys/tanz-in-den-mai-ecstatic-dance-heilbronn-57-7450855230541934015.html
END:VEVENT
END:VCALENDAR