BEGIN:VCALENDAR
VERSION:2.0
PRODID:EVENTFROG//EVENT//ICAL
BEGIN:VEVENT
UID:20260420T080248Z-7450857708675189512@eventfrog.de
DTSTAMP:20260420T080248Z
DTSTART:20260424T170000Z
DTEND:20260424T190000Z
SUMMARY:Mit dem Motorboot quer durch Afrika
DESCRIPTION:Carsten Möhle präsentiert die dramatische Motorboot-Expedition Paul Graetz' durch Afrika mit Originalbildern und Film.\n\nhttps://eventfrog.de/de/p/fuehrungen-vortraege/vortrag/mit-dem-motorboot-quer-durch-afrika-7450857708675189512.html
LOCATION:PS.Speicher
GEO:51.819872;9.861300
URL:https://eventfrog.de/de/p/fuehrungen-vortraege/vortrag/mit-dem-motorboot-quer-durch-afrika-7450857708675189512.html
END:VEVENT
END:VCALENDAR