BEGIN:VCALENDAR
VERSION:2.0
PRODID:EVENTFROG//EVENT//ICAL
BEGIN:VEVENT
UID:20260419T194125Z-7450869743546840557@eventfrog.de
DTSTAMP:20260419T194125Z
DTSTART:20260425T080000Z
DTEND:20260425T180000Z
SUMMARY:King Colis bringt seinen Pop-up-Store zurück nach München!
DESCRIPTION:München. Nach dem großen Erfolg im März 2025 kehrt King Colis zurück nach München. Damals sorgte das Konzept rund um „verlorene Pakete“ für enormen Andrang: Rund 7.200 Besucher kamen in den Pop-up-Sto\n\nhttps://eventfrog.de/de/p/maerkte/sonstige-maerkte/king-colis-bringt-seinen-pop-up-store-zurueck-nach-muenchen-7450869743546840557.html
LOCATION:FORUM Schwanthalerhöhe, Theresienhöhe 5, 80339 München, DE
GEO:48.133778;11.543876
URL:https://eventfrog.de/de/p/maerkte/sonstige-maerkte/king-colis-bringt-seinen-pop-up-store-zurueck-nach-muenchen-7450869743546840557.html
END:VEVENT
END:VCALENDAR