BEGIN:VCALENDAR
VERSION:2.0
PRODID:EVENTFROG//EVENT//ICAL
BEGIN:VEVENT
UID:20260420T174044Z-7450878598200727533@eventfrog.de
DTSTAMP:20260420T174044Z
DTSTART:20260501T090000Z
DTEND:20260501T190000Z
SUMMARY:Burgspektakel Bad Bodenteich
DESCRIPTION:Vom 30.4. bis 3.5.2026 bietet die Burg Bodenteich ein mittelalterliches Spektakel mit Markt, Rittern, Gauklern und mystischen Wesen.\n\nhttps://eventfrog.de/de/p/maerkte/mittelaltermarkt/burgspektakel-bad-bodenteich-7450878598200727533.html
LOCATION:Burg Bodenteich
GEO:52.834242;10.683126
URL:https://eventfrog.de/de/p/maerkte/mittelaltermarkt/burgspektakel-bad-bodenteich-7450878598200727533.html
END:VEVENT
END:VCALENDAR