BEGIN:VCALENDAR
VERSION:2.0
PRODID:EVENTFROG//EVENT//ICAL
BEGIN:VEVENT
UID:20260424T082106Z-7450879725554148052@eventfrog.de
DTSTAMP:20260424T082106Z
DTSTART:20260531T083000Z
SUMMARY:Matinée Chor Montlingen
DESCRIPTION:Der Chor Montlingen lädt zur Matinée mit Band, Moderation von Laura Leone und Tanz der Jalofit Kids ein. Eintritt frei, Kollekte gern gesehen.\n\nhttps://eventfrog.de/de/p/konzerte/chor/matinee-chor-montlingen-7450879725554148052.html
LOCATION:Berglihalle, Montlingen
GEO:47.335676;9.587796
URL:https://eventfrog.de/de/p/konzerte/chor/matinee-chor-montlingen-7450879725554148052.html
END:VEVENT
END:VCALENDAR