BEGIN:VCALENDAR
VERSION:2.0
PRODID:EVENTFROG//EVENT//ICAL
BEGIN:VEVENT
UID:20260423T044432Z-7450880229826907395@eventfrog.de
DTSTAMP:20260423T044432Z
DTSTART:20260828T170000Z
DTEND:20260828T190000Z
SUMMARY:„Don’t Panic Too Early“ – Eine fantastische Weltreise
DESCRIPTION:Ralf berichtet von seiner einjährigen Fahrt mit dem Motorrad durch 15 Länder, voller Begegnungen, Herausforderungen und Geschichten.\n\nhttps://eventfrog.de/de/p/fuehrungen-vortraege/live-fotoreportage-diashow/dont-panic-too-early-eine-fantastische-weltreise-7450880229826907395.html
LOCATION:PS.SPEICHER
GEO:51.819872;9.861300
URL:https://eventfrog.de/de/p/fuehrungen-vortraege/live-fotoreportage-diashow/dont-panic-too-early-eine-fantastische-weltreise-7450880229826907395.html
END:VEVENT
END:VCALENDAR