BEGIN:VCALENDAR
VERSION:2.0
PRODID:EVENTFROG//EVENT//ICAL
BEGIN:VEVENT
UID:20260422T112646Z-7450881781656491794@eventfrog.de
DTSTAMP:20260422T112646Z
DTSTART:20260904T170000Z
DTEND:20260904T203000Z
SUMMARY:Tanzschiff
DESCRIPTION:Walzer bis Discofox – Erleben Sie beschwingte Stunden auf dem Bodensee.\n\nhttps://eventfrog.de/de/p/partys/rhythm-blues/tanzschiff-7450881781656491794.html
LOCATION:Schweizerische Bodensee-Schifffahrt AG
GEO:47.564596;9.380165
URL:https://eventfrog.de/de/p/partys/rhythm-blues/tanzschiff-7450881781656491794.html
END:VEVENT
END:VCALENDAR