BEGIN:VCALENDAR
VERSION:2.0
PRODID:EVENTFROG//EVENT//ICAL
BEGIN:VEVENT
UID:20260419T182304Z-7450883002429639481@eventfrog.de
DTSTAMP:20260419T182304Z
DTSTART:20260730T161500Z
DTEND:20260730T204500Z
SUMMARY:Meersburg by Night
DESCRIPTION:Geniessen Sie eine Hin- und Rückfahrt zu einem gemütlichen Aufenthalt in Meersburg.\n\nhttps://eventfrog.de/de/p/freizeit-ausfluege/ausfahrt/meersburg-by-night-7450883002429639481.html
LOCATION:Schweizerische Bodensee-Schifffahrt AG
GEO:47.564596;9.380165
URL:https://eventfrog.de/de/p/freizeit-ausfluege/ausfahrt/meersburg-by-night-7450883002429639481.html
END:VEVENT
END:VCALENDAR