BEGIN:VCALENDAR
VERSION:2.0
PRODID:EVENTFROG//EVENT//ICAL
BEGIN:VEVENT
UID:20260420T040602Z-7450883504303307470@eventfrog.de
DTSTAMP:20260420T040602Z
DTSTART:20260709T110000Z
DTEND:20260709T140000Z
SUMMARY:Naturverbindung, Entspannung und Achtsamkeit in Zürich
DESCRIPTION:Entspannung und Achtsamkeit im Wald erleben: Halbtageskurs zur Förderung der Naturverbundenheit & Stressprävention mit Sinneserfahrungen,  Achtsamkeits- und Atemübungen, um Ruhe und Balance zu finden.\n\nhttps://eventfrog.de/de/p/gesundheit-spiritualitaet/gesundheit-wohlbefinden/naturverbindung-entspannung-und-achtsamkeit-in-zuerich-7450883504303307470.html
LOCATION:Grillplatz Vitaparcours Entlisbergwald, Paradiesstrasse 45, 8038 Zürich, CH
GEO:47.334678;8.523438
URL:https://eventfrog.de/de/p/gesundheit-spiritualitaet/gesundheit-wohlbefinden/naturverbindung-entspannung-und-achtsamkeit-in-zuerich-7450883504303307470.html
END:VEVENT
END:VCALENDAR