BEGIN:VCALENDAR
VERSION:2.0
PRODID:EVENTFROG//EVENT//ICAL
BEGIN:VEVENT
UID:20260419T182325Z-7450884064427396761@eventfrog.de
DTSTAMP:20260419T182325Z
DTSTART:20260708T161500Z
DTEND:20260708T204500Z
SUMMARY:Lindau by night
DESCRIPTION:Geniessen Sie eine Hin- und Rückfahrt zu einem gemütlichen Aufenthalt im mittelalterlich geprägten Städtchen.\n\nhttps://eventfrog.de/de/p/freizeit-ausfluege/ausfahrt/lindau-by-night-7450884064427396761.html
LOCATION:Rorschach Hafen
GEO:47.478652;9.493739
URL:https://eventfrog.de/de/p/freizeit-ausfluege/ausfahrt/lindau-by-night-7450884064427396761.html
END:VEVENT
END:VCALENDAR