BEGIN:VCALENDAR
VERSION:2.0
PRODID:EVENTFROG//EVENT//ICAL
BEGIN:VEVENT
UID:20260423T042933Z-7450884849496239122@eventfrog.de
DTSTAMP:20260423T042933Z
DTSTART:20261120T180000Z
DTEND:20261120T200000Z
SUMMARY:Reise zu den nördlichsten Punkten hinter dem Polarkreis
DESCRIPTION:Nordic Frozen – Bruno Pillitteri: –25 °C, Eispisten, Rentiere & Elch-„Schlittereinlage“ – ein Multimediavortrag über die nördlichsten Punkte Europas hinter dem Polarkreis. \n\nhttps://eventfrog.de/de/p/fuehrungen-vortraege/live-fotoreportage-diashow/reise-zu-den-noerdlichsten-punkten-hinter-dem-polarkreis-7450884849496239122.html
LOCATION:PS.SPEICHER
GEO:51.819872;9.861300
URL:https://eventfrog.de/de/p/fuehrungen-vortraege/live-fotoreportage-diashow/reise-zu-den-noerdlichsten-punkten-hinter-dem-polarkreis-7450884849496239122.html
END:VEVENT
END:VCALENDAR